BEGIN:VCALENDAR
VERSION:2.0
PRODID:-//Tukios.com/
BEGIN:VEVENT
UID:15e03e63-b64f-4223-96dd-84d8dcc19a83@www.emmonsmaceysteffey.com
DTSTAMP:20260426T021907Z
DTSTART:20260429T163000Z
DTEND:20260429T173000Z
SUMMARY:Graveside Service
DESCRIPTION:
URL:https://www.emmonsmaceysteffey.com/obituaries/robert-shaffer
LOCATION:Derr Cemetery 38.79280, -87.64500  Pinkstaff IL 62427
GEO:38.7944906;-87.6691922
END:VEVENT
END:VCALENDAR