BEGIN:VCALENDAR
VERSION:2.0
PRODID:-//Tukios.com/
BEGIN:VEVENT
UID:f40ca65e-31e7-4783-9e8d-237a273d370a@www.emmonsmaceysteffey.com
DTSTAMP:20260426T021907Z
DTSTART:20260429T180000Z
DTEND:20260429T190000Z
SUMMARY:Memorial Service
DESCRIPTION:
URL:https://www.emmonsmaceysteffey.com/obituaries/robert-shaffer
LOCATION:Pinkstaff Community Church 12689 Pinkstaff Ln  Lawrenceville IL 
	62439
GEO:38.7965458;-87.6734059
END:VEVENT
END:VCALENDAR