BEGIN:VCALENDAR
VERSION:2.0
PRODID:-//Tukios.com/
BEGIN:VEVENT
UID:899670ad-519b-49cd-ba75-35dff6acf004@www.emmonsmaceysteffey.com
DTSTAMP:20260426T021623Z
DTSTART:20260428T210000Z
DTEND:20260429T000000Z
SUMMARY:Visitation
DESCRIPTION:
URL:https://www.emmonsmaceysteffey.com/obituaries/robert-shaffer
LOCATION:Pinkstaff Community Church 12689 Pinkstaff Ln  Lawrenceville IL 
	62439
GEO:38.7965458;-87.6734059
END:VEVENT
END:VCALENDAR