BEGIN:VCALENDAR
VERSION:2.0
PRODID:-//Tukios.com/
BEGIN:VEVENT
UID:bb3edd37-5b32-45b6-a34b-e287751a95a9@www.emmonsmaceysteffey.com
DTSTAMP:20260422T194658Z
DTSTART:20260427T180000Z
DTEND:20260427T190000Z
SUMMARY:Funeral Service
DESCRIPTION:
URL:https://www.emmonsmaceysteffey.com/obituaries/norma-craft
LOCATION:Emmons-Macey & Steffey Funeral Home 1303 12th St  Lawrenceville 
	IL 62439
GEO:38.7245175;-87.683923
END:VEVENT
END:VCALENDAR