BEGIN:VCALENDAR
VERSION:2.0
PRODID:-//Tukios.com/
BEGIN:VEVENT
UID:64a5bbb9-48a5-4041-80f0-00604a1c5a8f@www.emmonsmaceysteffey.com
DTSTAMP:20260422T194209Z
DTSTART:20260427T160000Z
DTEND:20260427T180000Z
SUMMARY:Visitation
DESCRIPTION:
URL:https://www.emmonsmaceysteffey.com/obituaries/norma-craft
LOCATION:Emmons-Macey & Steffey Funeral Home 1303 12th St  Lawrenceville 
	IL 62439
GEO:38.7245175;-87.683923
END:VEVENT
END:VCALENDAR