BEGIN:VCALENDAR
VERSION:2.0
PRODID:-//Tukios.com/
BEGIN:VEVENT
UID:58c17364-96d7-44e4-855c-132a00737603@www.emmonsmaceysteffey.com
DTSTAMP:20260420T181819Z
DTSTART:20260425T170000Z
DTEND:20260425T180000Z
SUMMARY:Celebration of Life
DESCRIPTION:
URL:https://www.emmonsmaceysteffey.com/obituaries/maryann-wright
LOCATION:Russellville Community Church 103 3rd Street  Russellville IN 
	46175
GEO:39.8581018;-86.9846571
END:VEVENT
END:VCALENDAR