BEGIN:VCALENDAR
VERSION:2.0
PRODID:-//Tukios.com/
BEGIN:VEVENT
UID:a388e3f5-9db7-40d6-a7c1-98e4e509518d@www.emmonsmaceysteffey.com
DTSTAMP:20260420T181205Z
DTSTART:20260425T160000Z
DTEND:20260425T170000Z
SUMMARY:Visitation
DESCRIPTION:
URL:https://www.emmonsmaceysteffey.com/obituaries/maryann-wright
LOCATION:Russellville Community Church 103 3rd Street  Russellville IN 
	46175
GEO:39.8581018;-86.9846571
END:VEVENT
END:VCALENDAR