BEGIN:VCALENDAR
VERSION:2.0
PRODID:-//Tukios.com/
BEGIN:VEVENT
UID:daf361be-29fc-4625-a54e-198da61f5732@www.emmonsmaceysteffey.com
DTSTAMP:20260420T233837Z
DTSTART:20260423T200000Z
DTEND:20260423T210000Z
SUMMARY:Funeral Service
DESCRIPTION:
URL:https://www.emmonsmaceysteffey.com/obituaries/judith-schoffstall
LOCATION:Emmons-Macey & Steffey Funeral Home 1303 12th St  Lawrenceville 
	IL 62439
GEO:38.7245175;-87.683923
END:VEVENT
END:VCALENDAR