BEGIN:VCALENDAR
VERSION:2.0
PRODID:-//Tukios.com/
BEGIN:VEVENT
UID:c20897bb-7ba0-4fbf-8f59-646e5aa27f6a@www.emmonsmaceysteffey.com
DTSTAMP:20260420T233716Z
DTSTART:20260423T180000Z
DTEND:20260423T200000Z
SUMMARY:Visitation
DESCRIPTION:
URL:https://www.emmonsmaceysteffey.com/obituaries/judith-schoffstall
LOCATION:Emmons-Macey & Steffey Funeral Home 1303 12th St  Lawrenceville 
	IL 62439
GEO:38.7245175;-87.683923
END:VEVENT
END:VCALENDAR